BEGIN:VCALENDAR
VERSION:2.0
PRODID:-//Bratton Fleming Parish Council//Meeting Calendar//EN
CALSCALE:GREGORIAN
METHOD:PUBLISH
BEGIN:VEVENT
UID:71008-20260415@brattonflemingparishcouncil.gov.uk
DTSTAMP:20260420T042949Z
DTSTART;VALUE=DATE:20260415
DTEND;VALUE=DATE:20260416
SUMMARY:Parish Council Meeting 15 April 2026
DESCRIPTION:Full Council Meeting\nView details: https://brattonflemingparishcouncil.gov.uk/meetings/parish-council-meeting-15-april-2026/
URL:https://brattonflemingparishcouncil.gov.uk/meetings/parish-council-meeting-15-april-2026/
END:VEVENT
END:VCALENDAR
