BEGIN:VCALENDAR
VERSION:2.0
PRODID:-//Bratton Fleming Parish Council//Meeting Calendar//EN
CALSCALE:GREGORIAN
METHOD:PUBLISH
BEGIN:VEVENT
UID:70999-20260318@brattonflemingparishcouncil.gov.uk
DTSTAMP:20260420T042948Z
DTSTART;VALUE=DATE:20260318
DTEND;VALUE=DATE:20260319
SUMMARY:Parish Council Meeting 18 March 2026
DESCRIPTION:Full Council Meeting\nView details: https://brattonflemingparishcouncil.gov.uk/meetings/parish-council-meeting-18-march-2026/
URL:https://brattonflemingparishcouncil.gov.uk/meetings/parish-council-meeting-18-march-2026/
END:VEVENT
END:VCALENDAR
