BEGIN:VCALENDAR
VERSION:2.0
PRODID:-//Bratton Fleming Parish Council//Meeting Calendar//EN
CALSCALE:GREGORIAN
METHOD:PUBLISH
BEGIN:VEVENT
UID:70924-20251015@brattonflemingparishcouncil.gov.uk
DTSTAMP:20260424T082141Z
DTSTART;VALUE=DATE:20251015
DTEND;VALUE=DATE:20251016
SUMMARY:Parish Council meeting 15 October 2025
DESCRIPTION:Full Council Meeting\nView details: https://brattonflemingparishcouncil.gov.uk/meetings/parish-council-meeting-15-october-2025/
URL:https://brattonflemingparishcouncil.gov.uk/meetings/parish-council-meeting-15-october-2025/
END:VEVENT
END:VCALENDAR
