BEGIN:VCALENDAR
VERSION:2.0
PRODID:-//Bratton Fleming Parish Council//Meeting Calendar//EN
CALSCALE:GREGORIAN
METHOD:PUBLISH
BEGIN:VEVENT
UID:70916-20250917@brattonflemingparishcouncil.gov.uk
DTSTAMP:20260422T085247Z
DTSTART;VALUE=DATE:20250917
DTEND;VALUE=DATE:20250918
SUMMARY:Parish Council meeting 17 September 2025
DESCRIPTION:Full Council Meeting\nView details: https://brattonflemingparishcouncil.gov.uk/meetings/parish-council-meeting-17-september-2025/
URL:https://brattonflemingparishcouncil.gov.uk/meetings/parish-council-meeting-17-september-2025/
END:VEVENT
END:VCALENDAR
