BEGIN:VCALENDAR
VERSION:2.0
PRODID:-//Bratton Fleming Parish Council//Meeting Calendar//EN
CALSCALE:GREGORIAN
METHOD:PUBLISH
BEGIN:VEVENT
UID:70911-20250804@brattonflemingparishcouncil.gov.uk
DTSTAMP:20260422T103551Z
DTSTART;VALUE=DATE:20250804
DTEND;VALUE=DATE:20250805
SUMMARY:Parish Council Meeting &#8211\\; August 2025
DESCRIPTION:Full Council Meeting\nView details: https://brattonflemingparishcouncil.gov.uk/meetings/parish-council-meeting-august-2025/
URL:https://brattonflemingparishcouncil.gov.uk/meetings/parish-council-meeting-august-2025/
END:VEVENT
END:VCALENDAR
