BEGIN:VCALENDAR
VERSION:2.0
PRODID:-//Bratton Fleming Parish Council//Meeting Calendar//EN
CALSCALE:GREGORIAN
METHOD:PUBLISH
BEGIN:VEVENT
UID:70890-20250716@brattonflemingparishcouncil.gov.uk
DTSTAMP:20260422T102613Z
DTSTART;VALUE=DATE:20250716
DTEND;VALUE=DATE:20250717
SUMMARY:Parish Council Meeting 16 July 2025
DESCRIPTION:Full Council Meeting\nView details: https://brattonflemingparishcouncil.gov.uk/meetings/parish-council-meeting-16-july-2025/
URL:https://brattonflemingparishcouncil.gov.uk/meetings/parish-council-meeting-16-july-2025/
END:VEVENT
END:VCALENDAR
