BEGIN:VCALENDAR
VERSION:2.0
PRODID:-//Bratton Fleming Parish Council//Meeting Calendar//EN
CALSCALE:GREGORIAN
METHOD:PUBLISH
BEGIN:VEVENT
UID:70886-20250618@brattonflemingparishcouncil.gov.uk
DTSTAMP:20260424T093908Z
DTSTART;VALUE=DATE:20250618
DTEND;VALUE=DATE:20250619
SUMMARY:Parish Council Meeting 18 June 2025
DESCRIPTION:Full Council Meeting\nView details: https://brattonflemingparishcouncil.gov.uk/meetings/parish-council-meeting-18-june-2025/
URL:https://brattonflemingparishcouncil.gov.uk/meetings/parish-council-meeting-18-june-2025/
END:VEVENT
END:VCALENDAR
