BEGIN:VCALENDAR
VERSION:2.0
PRODID:-//Bratton Fleming Parish Council//Meeting Calendar//EN
CALSCALE:GREGORIAN
METHOD:PUBLISH
BEGIN:VEVENT
UID:70790-20250115@brattonflemingparishcouncil.gov.uk
DTSTAMP:20260422T115957Z
DTSTART;VALUE=DATE:20250115
DTEND;VALUE=DATE:20250116
SUMMARY:Parish Council Meeting 15 January 2025
DESCRIPTION:Full Council Meeting\nView details: https://brattonflemingparishcouncil.gov.uk/meetings/parish-council-meeting-15-january-2025/
URL:https://brattonflemingparishcouncil.gov.uk/meetings/parish-council-meeting-15-january-2025/
END:VEVENT
END:VCALENDAR
