BEGIN:VCALENDAR
VERSION:2.0
PRODID:-//Bratton Fleming Parish Council//Meeting Calendar//EN
CALSCALE:GREGORIAN
METHOD:PUBLISH
BEGIN:VEVENT
UID:70777-20241218@brattonflemingparishcouncil.gov.uk
DTSTAMP:20260424T114811Z
DTSTART;VALUE=DATE:20241218
DTEND;VALUE=DATE:20241219
SUMMARY:Parish Council Meeting 18 December 2024
DESCRIPTION:Full Council Meeting\nView details: https://brattonflemingparishcouncil.gov.uk/meetings/parish-council-meeting-18-december-2024/
URL:https://brattonflemingparishcouncil.gov.uk/meetings/parish-council-meeting-18-december-2024/
END:VEVENT
END:VCALENDAR
