BEGIN:VCALENDAR
VERSION:2.0
PRODID:-//Bratton Fleming Parish Council//Meeting Calendar//EN
CALSCALE:GREGORIAN
METHOD:PUBLISH
BEGIN:VEVENT
UID:70769-20241120@brattonflemingparishcouncil.gov.uk
DTSTAMP:20260424T082358Z
DTSTART;VALUE=DATE:20241120
DTEND;VALUE=DATE:20241121
SUMMARY:Parish Council Meeting 20 November 2024
DESCRIPTION:Full Council Meeting\nView details: https://brattonflemingparishcouncil.gov.uk/meetings/parish-council-meeting-20-november-2024/
URL:https://brattonflemingparishcouncil.gov.uk/meetings/parish-council-meeting-20-november-2024/
END:VEVENT
END:VCALENDAR
