BEGIN:VCALENDAR
VERSION:2.0
PRODID:-//Bratton Fleming Parish Council//Meeting Calendar//EN
CALSCALE:GREGORIAN
METHOD:PUBLISH
BEGIN:VEVENT
UID:70733-20240619@brattonflemingparishcouncil.gov.uk
DTSTAMP:20260424T095646Z
DTSTART;VALUE=DATE:20240619
DTEND;VALUE=DATE:20240620
SUMMARY:Parish Council Meeting 19 June 2024
DESCRIPTION:Full Council Meeting\nView details: https://brattonflemingparishcouncil.gov.uk/meetings/meeting-name-here-2/
URL:https://brattonflemingparishcouncil.gov.uk/meetings/meeting-name-here-2/
END:VEVENT
END:VCALENDAR
