BEGIN:VCALENDAR
VERSION:2.0
PRODID:-//Bratton Fleming Parish Council//Meeting Calendar//EN
CALSCALE:GREGORIAN
METHOD:PUBLISH
BEGIN:VEVENT
UID:70639-20240320@brattonflemingparishcouncil.gov.uk
DTSTAMP:20260424T111545Z
DTSTART;VALUE=DATE:20240320
DTEND;VALUE=DATE:20240321
SUMMARY:Parish Council Minutes 20 March 2024
DESCRIPTION:Full Council Meeting\nView details: https://brattonflemingparishcouncil.gov.uk/meetings/parish-council-minutes-20-march-2024/
URL:https://brattonflemingparishcouncil.gov.uk/meetings/parish-council-minutes-20-march-2024/
END:VEVENT
END:VCALENDAR
