BEGIN:VCALENDAR
VERSION:2.0
PRODID:-//Bratton Fleming Parish Council//Meeting Calendar//EN
CALSCALE:GREGORIAN
METHOD:PUBLISH
BEGIN:VEVENT
UID:70589-20240221@brattonflemingparishcouncil.gov.uk
DTSTAMP:20260424T112416Z
DTSTART;VALUE=DATE:20240221
DTEND;VALUE=DATE:20240222
SUMMARY:Council Meeting 21 February 2024
DESCRIPTION:Full Council Meeting\nView details: https://brattonflemingparishcouncil.gov.uk/meetings/council-meeting-21-february-2024/
URL:https://brattonflemingparishcouncil.gov.uk/meetings/council-meeting-21-february-2024/
END:VEVENT
END:VCALENDAR
