BEGIN:VCALENDAR
VERSION:2.0
PRODID:-//Bratton Fleming Parish Council//Meeting Calendar//EN
CALSCALE:GREGORIAN
METHOD:PUBLISH
BEGIN:VEVENT
UID:70557-20240113@brattonflemingparishcouncil.gov.uk
DTSTAMP:20260424T112150Z
DTSTART;VALUE=DATE:20240113
DTEND;VALUE=DATE:20240114
SUMMARY:Council Meeting 17 January 2024
DESCRIPTION:Full Council Meeting\nView details: https://brattonflemingparishcouncil.gov.uk/meetings/council-meeting-17-january-2024/
URL:https://brattonflemingparishcouncil.gov.uk/meetings/council-meeting-17-january-2024/
END:VEVENT
END:VCALENDAR
