BEGIN:VCALENDAR
VERSION:2.0
PRODID:-//Bratton Fleming Parish Council//Meeting Calendar//EN
CALSCALE:GREGORIAN
METHOD:PUBLISH
BEGIN:VEVENT
UID:70548-20231220@brattonflemingparishcouncil.gov.uk
DTSTAMP:20260424T124604Z
DTSTART;VALUE=DATE:20231220
DTEND;VALUE=DATE:20231221
SUMMARY:Council Meeting 20th December 2023
DESCRIPTION:Full Council Meeting\nView details: https://brattonflemingparishcouncil.gov.uk/meetings/council-meeting-20th-december-2023/
URL:https://brattonflemingparishcouncil.gov.uk/meetings/council-meeting-20th-december-2023/
END:VEVENT
END:VCALENDAR
