BEGIN:VCALENDAR
VERSION:2.0
PRODID:-//Bratton Fleming Parish Council//Meeting Calendar//EN
CALSCALE:GREGORIAN
METHOD:PUBLISH
BEGIN:VEVENT
UID:70468-20231111@brattonflemingparishcouncil.gov.uk
DTSTAMP:20260424T135230Z
DTSTART;VALUE=DATE:20231111
DTEND;VALUE=DATE:20231112
SUMMARY:Dates of future meetings.
DESCRIPTION:Full Council Meeting\nView details: https://brattonflemingparishcouncil.gov.uk/meetings/dates-of-future-meetings/
URL:https://brattonflemingparishcouncil.gov.uk/meetings/dates-of-future-meetings/
END:VEVENT
END:VCALENDAR
