BEGIN:VCALENDAR
VERSION:2.0
PRODID:-//Bratton Fleming Parish Council//Meeting Calendar//EN
CALSCALE:GREGORIAN
METHOD:PUBLISH
BEGIN:VEVENT
UID:70464-20231115@brattonflemingparishcouncil.gov.uk
DTSTAMP:20260424T135519Z
DTSTART;VALUE=DATE:20231115
DTEND;VALUE=DATE:20231116
SUMMARY:Council meeting 15 November 2023
DESCRIPTION:Full Council Meeting\nView details: https://brattonflemingparishcouncil.gov.uk/meetings/november-2023-agenda/
URL:https://brattonflemingparishcouncil.gov.uk/meetings/november-2023-agenda/
END:VEVENT
END:VCALENDAR
