BEGIN:VCALENDAR
VERSION:2.0
PRODID:-//Bratton Fleming Parish Council//Meeting Calendar//EN
CALSCALE:GREGORIAN
METHOD:PUBLISH
BEGIN:VEVENT
UID:70441-20231018@brattonflemingparishcouncil.gov.uk
DTSTAMP:20260424T135911Z
DTSTART;VALUE=DATE:20231018
DTEND;VALUE=DATE:20231019
SUMMARY:Council Meeting 18 October 2023
DESCRIPTION:Full Council Meeting\nView details: https://brattonflemingparishcouncil.gov.uk/meetings/october-18th-2023/
URL:https://brattonflemingparishcouncil.gov.uk/meetings/october-18th-2023/
END:VEVENT
END:VCALENDAR
