BEGIN:VCALENDAR
VERSION:2.0
PRODID:-//Bratton Fleming Parish Council//Meeting Calendar//EN
CALSCALE:GREGORIAN
METHOD:PUBLISH
BEGIN:VEVENT
UID:70415-20230920@brattonflemingparishcouncil.gov.uk
DTSTAMP:20260424T152022Z
DTSTART;VALUE=DATE:20230920
DTEND;VALUE=DATE:20230921
SUMMARY:Council meeting &#8211\\; 20th September 2023
DESCRIPTION:Full Council Meeting\nView details: https://brattonflemingparishcouncil.gov.uk/meetings/council-meeting-20th-september-2023/
URL:https://brattonflemingparishcouncil.gov.uk/meetings/council-meeting-20th-september-2023/
END:VEVENT
END:VCALENDAR
