BEGIN:VCALENDAR
VERSION:2.0
PRODID:-//Bratton Fleming Parish Council//Meeting Calendar//EN
CALSCALE:GREGORIAN
METHOD:PUBLISH
BEGIN:VEVENT
UID:70381-20230621@brattonflemingparishcouncil.gov.uk
DTSTAMP:20260424T153231Z
DTSTART;VALUE=DATE:20230621
DTEND;VALUE=DATE:20230622
SUMMARY:Council meeting &#8211\\; 21st June 2023
DESCRIPTION:Full Council Meeting\nView details: https://brattonflemingparishcouncil.gov.uk/meetings/meeting-name-here/
URL:https://brattonflemingparishcouncil.gov.uk/meetings/meeting-name-here/
END:VEVENT
END:VCALENDAR
