BEGIN:VCALENDAR
VERSION:2.0
PRODID:-//Bratton Fleming Parish Council//Meeting Calendar//EN
CALSCALE:GREGORIAN
METHOD:PUBLISH
BEGIN:VEVENT
UID:70368-20220616@brattonflemingparishcouncil.gov.uk
DTSTAMP:20260424T082236Z
DTSTART;VALUE=DATE:20220616
DTEND;VALUE=DATE:20220617
SUMMARY:Council Meeting &#8211\\; 16th June 2022
DESCRIPTION:Full Council Meeting\nView details: https://brattonflemingparishcouncil.gov.uk/meetings/council-meeting-16th-june-2022/
URL:https://brattonflemingparishcouncil.gov.uk/meetings/council-meeting-16th-june-2022/
END:VEVENT
END:VCALENDAR
