BEGIN:VCALENDAR
VERSION:2.0
PRODID:-//Bratton Fleming Parish Council//Meeting Calendar//EN
CALSCALE:GREGORIAN
METHOD:PUBLISH
BEGIN:VEVENT
UID:70363-20230517@brattonflemingparishcouncil.gov.uk
DTSTAMP:20260424T155030Z
DTSTART;VALUE=DATE:20230517
DTEND;VALUE=DATE:20230518
SUMMARY:Council Meeting &#8211\\; 17th May 2023
DESCRIPTION:Full Council Meeting\nView details: https://brattonflemingparishcouncil.gov.uk/meetings/council-meeting-17th-may-2023/
URL:https://brattonflemingparishcouncil.gov.uk/meetings/council-meeting-17th-may-2023/
END:VEVENT
END:VCALENDAR
