BEGIN:VCALENDAR
VERSION:2.0
PRODID:-//Bratton Fleming Parish Council//Meeting Calendar//EN
CALSCALE:GREGORIAN
METHOD:PUBLISH
BEGIN:VEVENT
UID:70351-20230215@brattonflemingparishcouncil.gov.uk
DTSTAMP:20260424T143302Z
DTSTART;VALUE=DATE:20230215
DTEND;VALUE=DATE:20230216
SUMMARY:Council Meeting &#8211\\; 15th February 2023
DESCRIPTION:Full Council Meeting\nView details: https://brattonflemingparishcouncil.gov.uk/meetings/council-meeting-15th-february-2023/
URL:https://brattonflemingparishcouncil.gov.uk/meetings/council-meeting-15th-february-2023/
END:VEVENT
END:VCALENDAR
