BEGIN:VCALENDAR
VERSION:2.0
PRODID:-//Bratton Fleming Parish Council//Meeting Calendar//EN
CALSCALE:GREGORIAN
METHOD:PUBLISH
BEGIN:VEVENT
UID:70349-20220615@brattonflemingparishcouncil.gov.uk
DTSTAMP:20260422T125630Z
DTSTART;VALUE=DATE:20220615
DTEND;VALUE=DATE:20220616
SUMMARY:Council Meeting &#8211\\; 15th June 2022
DESCRIPTION:Full Council Meeting\nView details: https://brattonflemingparishcouncil.gov.uk/meetings/council-meeting-15th-june-2022/
URL:https://brattonflemingparishcouncil.gov.uk/meetings/council-meeting-15th-june-2022/
END:VEVENT
END:VCALENDAR
