BEGIN:VCALENDAR
VERSION:2.0
PRODID:-//Bratton Fleming Parish Council//Meeting Calendar//EN
CALSCALE:GREGORIAN
METHOD:PUBLISH
BEGIN:VEVENT
UID:70347-20220216@brattonflemingparishcouncil.gov.uk
DTSTAMP:20260420T075024Z
DTSTART;VALUE=DATE:20220216
DTEND;VALUE=DATE:20220217
SUMMARY:Council Meeting &#8211\\; 16th February 2022
DESCRIPTION:Full Council Meeting\nView details: https://brattonflemingparishcouncil.gov.uk/meetings/council-meeting-16th-february-2022/
URL:https://brattonflemingparishcouncil.gov.uk/meetings/council-meeting-16th-february-2022/
END:VEVENT
END:VCALENDAR
