BEGIN:VCALENDAR
VERSION:2.0
PRODID:-//Bratton Fleming Parish Council//Meeting Calendar//EN
CALSCALE:GREGORIAN
METHOD:PUBLISH
BEGIN:VEVENT
UID:70345-20220316@brattonflemingparishcouncil.gov.uk
DTSTAMP:20260422T085509Z
DTSTART;VALUE=DATE:20220316
DTEND;VALUE=DATE:20220317
SUMMARY:Council Meeting &#8211\\; 16th March 2022
DESCRIPTION:Full Council Meeting\nView details: https://brattonflemingparishcouncil.gov.uk/meetings/council-meeting-16th-march-2022/
URL:https://brattonflemingparishcouncil.gov.uk/meetings/council-meeting-16th-march-2022/
END:VEVENT
END:VCALENDAR
