BEGIN:VCALENDAR
VERSION:2.0
PRODID:-//Bratton Fleming Parish Council//Meeting Calendar//EN
CALSCALE:GREGORIAN
METHOD:PUBLISH
BEGIN:VEVENT
UID:70343-20230315@brattonflemingparishcouncil.gov.uk
DTSTAMP:20260424T165302Z
DTSTART;VALUE=DATE:20230315
DTEND;VALUE=DATE:20230316
SUMMARY:Council Meeting &#8211\\; 15th March 2023
DESCRIPTION:Full Council Meeting\nView details: https://brattonflemingparishcouncil.gov.uk/meetings/council-meeting-15th-march-2023/
URL:https://brattonflemingparishcouncil.gov.uk/meetings/council-meeting-15th-march-2023/
END:VEVENT
END:VCALENDAR
