BEGIN:VCALENDAR
VERSION:2.0
PRODID:-//Bratton Fleming Parish Council//Meeting Calendar//EN
CALSCALE:GREGORIAN
METHOD:PUBLISH
BEGIN:VEVENT
UID:70341-20220817@brattonflemingparishcouncil.gov.uk
DTSTAMP:20260424T105740Z
DTSTART;VALUE=DATE:20220817
DTEND;VALUE=DATE:20220818
SUMMARY:Council Meeting &#8211\\; 17th August 2022
DESCRIPTION:Full Council Meeting\nView details: https://brattonflemingparishcouncil.gov.uk/meetings/council-meeting-17th-august-2022/
URL:https://brattonflemingparishcouncil.gov.uk/meetings/council-meeting-17th-august-2022/
END:VEVENT
END:VCALENDAR
