BEGIN:VCALENDAR
VERSION:2.0
PRODID:-//Bratton Fleming Parish Council//Meeting Calendar//EN
CALSCALE:GREGORIAN
METHOD:PUBLISH
BEGIN:VEVENT
UID:70339-20221116@brattonflemingparishcouncil.gov.uk
DTSTAMP:20260424T134806Z
DTSTART;VALUE=DATE:20221116
DTEND;VALUE=DATE:20221117
SUMMARY:Council Meeting &#8211\\; 16th November 2022
DESCRIPTION:Full Council Meeting\nView details: https://brattonflemingparishcouncil.gov.uk/meetings/council-meeting-16th-november-2022/
URL:https://brattonflemingparishcouncil.gov.uk/meetings/council-meeting-16th-november-2022/
END:VEVENT
END:VCALENDAR
