BEGIN:VCALENDAR
VERSION:2.0
PRODID:-//Bratton Fleming Parish Council//Meeting Calendar//EN
CALSCALE:GREGORIAN
METHOD:PUBLISH
BEGIN:VEVENT
UID:70335-20220518@brattonflemingparishcouncil.gov.uk
DTSTAMP:20260422T105315Z
DTSTART;VALUE=DATE:20220518
DTEND;VALUE=DATE:20220519
SUMMARY:Council Meeting &#8211\\; 18th May 2022
DESCRIPTION:Full Council Meeting\nView details: https://brattonflemingparishcouncil.gov.uk/meetings/council-meeting-18th-may-2022/
URL:https://brattonflemingparishcouncil.gov.uk/meetings/council-meeting-18th-may-2022/
END:VEVENT
END:VCALENDAR
