BEGIN:VCALENDAR
VERSION:2.0
PRODID:-//Bratton Fleming Parish Council//Meeting Calendar//EN
CALSCALE:GREGORIAN
METHOD:PUBLISH
BEGIN:VEVENT
UID:70333-20220119@brattonflemingparishcouncil.gov.uk
DTSTAMP:20260420T060757Z
DTSTART;VALUE=DATE:20220119
DTEND;VALUE=DATE:20220120
SUMMARY:Council Meeting &#8211\\; 19th January 2022
DESCRIPTION:Full Council Meeting\nView details: https://brattonflemingparishcouncil.gov.uk/meetings/council-meeting-19th-january-2022/
URL:https://brattonflemingparishcouncil.gov.uk/meetings/council-meeting-19th-january-2022/
END:VEVENT
END:VCALENDAR
