BEGIN:VCALENDAR
VERSION:2.0
PRODID:-//Bratton Fleming Parish Council//Meeting Calendar//EN
CALSCALE:GREGORIAN
METHOD:PUBLISH
BEGIN:VEVENT
UID:70331-20230419@brattonflemingparishcouncil.gov.uk
DTSTAMP:20260424T143051Z
DTSTART;VALUE=DATE:20230419
DTEND;VALUE=DATE:20230420
SUMMARY:Council Meeting &#8211\\; 19th April 2023
DESCRIPTION:Full Council Meeting\nView details: https://brattonflemingparishcouncil.gov.uk/meetings/council-meeting-19th-april-2023/
URL:https://brattonflemingparishcouncil.gov.uk/meetings/council-meeting-19th-april-2023/
END:VEVENT
END:VCALENDAR
