BEGIN:VCALENDAR
VERSION:2.0
PRODID:-//Bratton Fleming Parish Council//Meeting Calendar//EN
CALSCALE:GREGORIAN
METHOD:PUBLISH
BEGIN:VEVENT
UID:70329-20221019@brattonflemingparishcouncil.gov.uk
DTSTAMP:20260424T132751Z
DTSTART;VALUE=DATE:20221019
DTEND;VALUE=DATE:20221020
SUMMARY:Council Meeting &#8211\\; 19th October 2022
DESCRIPTION:Full Council Meeting\nView details: https://brattonflemingparishcouncil.gov.uk/meetings/council-meeting-19th-october-2022/
URL:https://brattonflemingparishcouncil.gov.uk/meetings/council-meeting-19th-october-2022/
END:VEVENT
END:VCALENDAR
