BEGIN:VCALENDAR
VERSION:2.0
PRODID:-//Bratton Fleming Parish Council//Meeting Calendar//EN
CALSCALE:GREGORIAN
METHOD:PUBLISH
BEGIN:VEVENT
UID:70327-20221221@brattonflemingparishcouncil.gov.uk
DTSTAMP:20260424T132628Z
DTSTART;VALUE=DATE:20221221
DTEND;VALUE=DATE:20221222
SUMMARY:Council Meeting &#8211\\; 21st December 2022
DESCRIPTION:Full Council Meeting\nView details: https://brattonflemingparishcouncil.gov.uk/meetings/council-meeting-21st-december-2022/
URL:https://brattonflemingparishcouncil.gov.uk/meetings/council-meeting-21st-december-2022/
END:VEVENT
END:VCALENDAR
