BEGIN:VCALENDAR
VERSION:2.0
PRODID:-//Bratton Fleming Parish Council//Meeting Calendar//EN
CALSCALE:GREGORIAN
METHOD:PUBLISH
BEGIN:VEVENT
UID:70325-20220928@brattonflemingparishcouncil.gov.uk
DTSTAMP:20260424T122600Z
DTSTART;VALUE=DATE:20220928
DTEND;VALUE=DATE:20220929
SUMMARY:Council Meeting &#8211\\; 28th September 2022
DESCRIPTION:Full Council Meeting\nView details: https://brattonflemingparishcouncil.gov.uk/meetings/council-meeting-28th-september-2022/
URL:https://brattonflemingparishcouncil.gov.uk/meetings/council-meeting-28th-september-2022/
END:VEVENT
END:VCALENDAR
