BEGIN:VCALENDAR
VERSION:2.0
PRODID:-//Bratton Fleming Parish Council//Meeting Calendar//EN
CALSCALE:GREGORIAN
METHOD:PUBLISH
BEGIN:VEVENT
UID:70323-20220720@brattonflemingparishcouncil.gov.uk
DTSTAMP:20260424T094016Z
DTSTART;VALUE=DATE:20220720
DTEND;VALUE=DATE:20220721
SUMMARY:Council Meeting &#8211\\; 20th July 2022
DESCRIPTION:Full Council Meeting\nView details: https://brattonflemingparishcouncil.gov.uk/meetings/council-meeting-20th-july-2022/
URL:https://brattonflemingparishcouncil.gov.uk/meetings/council-meeting-20th-july-2022/
END:VEVENT
END:VCALENDAR
